BEGIN:VCALENDAR
VERSION:2.0
PRODID:-//Unternehmer Netzwerk Hohenlohe e.V. - ECPv6.15.20//NONSGML v1.0//EN
CALSCALE:GREGORIAN
METHOD:PUBLISH
X-ORIGINAL-URL:https://unetzh.de
X-WR-CALDESC:Veranstaltungen für Unternehmer Netzwerk Hohenlohe e.V.
REFRESH-INTERVAL;VALUE=DURATION:PT1H
X-Robots-Tag:noindex
X-PUBLISHED-TTL:PT1H
BEGIN:VTIMEZONE
TZID:Europe/Berlin
BEGIN:DAYLIGHT
TZOFFSETFROM:+0100
TZOFFSETTO:+0200
TZNAME:CEST
DTSTART:20200329T010000
END:DAYLIGHT
BEGIN:STANDARD
TZOFFSETFROM:+0200
TZOFFSETTO:+0100
TZNAME:CET
DTSTART:20201025T010000
END:STANDARD
BEGIN:DAYLIGHT
TZOFFSETFROM:+0100
TZOFFSETTO:+0200
TZNAME:CEST
DTSTART:20210328T010000
END:DAYLIGHT
BEGIN:STANDARD
TZOFFSETFROM:+0200
TZOFFSETTO:+0100
TZNAME:CET
DTSTART:20211031T010000
END:STANDARD
BEGIN:DAYLIGHT
TZOFFSETFROM:+0100
TZOFFSETTO:+0200
TZNAME:CEST
DTSTART:20220327T010000
END:DAYLIGHT
BEGIN:STANDARD
TZOFFSETFROM:+0200
TZOFFSETTO:+0100
TZNAME:CET
DTSTART:20221030T010000
END:STANDARD
END:VTIMEZONE
BEGIN:VEVENT
DTSTART;TZID=Europe/Berlin:20211007T190000
DTEND;TZID=Europe/Berlin:20211007T210000
DTSTAMP:20260424T151005
CREATED:20211004T204002Z
LAST-MODIFIED:20211004T204126Z
UID:1563-1633633200-1633640400@unetzh.de
SUMMARY:Besuchertag beim UNetzH
DESCRIPTION:Am Donnerstag\, 7. Oktober 2021 um 19 Uhr treffen sich die Mitglieder und interessierten Gäste beim kostenlosen und unverbindlichen Besuchertag im Sportheim Da Luana\, Künzelsau-Gaisbach. \nGäste sind herzlich willkommen. \nUm vorherige Anmeldung wird gebeten: \nBesucher
URL:https://unetzh.de/event/besuchertag-beim-unetzh/
LOCATION:Ballenwasen 4 74653 Künzelsau\, Ballenwasen 4\, 74653 Künzelsau-Gaisbach\, Ristorante Pizzeria "Da Luana"\, 74653\, Deutschland
END:VEVENT
END:VCALENDAR